BEGIN:VCALENDAR
VERSION:2.0
PRODID:-//Arrive Ministries - ECPv6.11.2.1//NONSGML v1.0//EN
CALSCALE:GREGORIAN
METHOD:PUBLISH
X-WR-CALNAME:Arrive Ministries
X-ORIGINAL-URL:https://arriveministries.org
X-WR-CALDESC:Events for Arrive Ministries
REFRESH-INTERVAL;VALUE=DURATION:PT1H
X-Robots-Tag:noindex
X-PUBLISHED-TTL:PT1H
BEGIN:VTIMEZONE
TZID:America/Denver
BEGIN:DAYLIGHT
TZOFFSETFROM:-0700
TZOFFSETTO:-0600
TZNAME:MDT
DTSTART:20240310T090000
END:DAYLIGHT
BEGIN:STANDARD
TZOFFSETFROM:-0600
TZOFFSETTO:-0700
TZNAME:MST
DTSTART:20241103T080000
END:STANDARD
END:VTIMEZONE
BEGIN:VEVENT
DTSTART;TZID=America/Denver:20240813T180000
DTEND;TZID=America/Denver:20240813T203000
DTSTAMP:20260419T071154
CREATED:20240502T165448Z
LAST-MODIFIED:20240502T165448Z
UID:6954-1723572000-1723581000@arriveministries.org
SUMMARY:Arrive Ministries Summer Picnic
DESCRIPTION:Tuesday August 13\n6PM-8:30PM\nVeterans Park Pavilion\n6335 Portland Ave.\, Richfield\n  \nGather together with friends new and old for food and fellowship. Past\, present\, and prospective volunteers and clients are welcome. Bring your new neighbor and a dish to share! \nArrive Ministries will provide the main dishes. Please plan to bring a side dish to share with others: fruit\, veggies\, chips\, salad\, bread\, your favorite cultural dish\, dessert\, etc! \nWhen registering\, indicate how many people you will be bringing so that we can plan accordingly for food. \nWe’re excited to see you! \n 
URL:https://arriveministries.org/event/arrive-ministries-summer-picnic/
LOCATION:Veterans Park Pavilion\, 6335 Portland Ave.\, Richfield\, MN\, 55432
CATEGORIES:Event
ATTACH;FMTTYPE=image/png:https://arriveministries.org/wp-content/uploads/2024/05/24.8-Summer-Picnic-new.png
END:VEVENT
BEGIN:VEVENT
DTSTART;TZID=America/Denver:20240820T190000
DTEND;TZID=America/Denver:20240820T200000
DTSTAMP:20260419T071154
CREATED:20240514T151230Z
LAST-MODIFIED:20240514T151230Z
UID:6962-1724180400-1724184000@arriveministries.org
SUMMARY:7PM Volunteer Interest Meeting
DESCRIPTION:Tuesday\, August 20 from 7-8pm on Zoom \nJoin us for our monthly Volunteer Interest Meeting! \nLearn about refugees\, their journey to Minnesota\, the work we do at Arrive Ministries\, and God’s call to respond. \nWe will be sharing about our volunteer opportunities and ways you can get involved. \nRegister below and you will receive the zoom link the day of the event.
URL:https://arriveministries.org/event/7pm-volunteer-interest-meeting-3/
CATEGORIES:Volunteer Interest Meeting
END:VEVENT
BEGIN:VEVENT
DTSTART;TZID=America/Denver:20240827T180000
DTEND;TZID=America/Denver:20240827T200000
DTSTAMP:20260419T071154
CREATED:20240530T195804Z
LAST-MODIFIED:20240530T195804Z
UID:6987-1724781600-1724788800@arriveministries.org
SUMMARY:Spiritual: Heart of the Father
DESCRIPTION:Summer Volunteer Workshop Series: Spiritual\nTuesday\, August 27\, 6-8 PM\nHybrid – Zoom or In-Person (1515 E 66th St. Richfield)\n\n\nAs followers of Jesus\, we are called to love God and love others. Our work of extending love to our new neighbors is possible because God first loved us. This training will focus on the heart of the Father – what moves His heart and ours.\n\nTrainer: Brad Henkel is the Discipleship Strategy Coach at Arrive Ministries\n\n\nIf joining virtually\, you will receive the zoom link the day of the event.
URL:https://arriveministries.org/event/volunteer-workshop-spiritual/
LOCATION:Arrive Ministries\, 1515 66th St. E.\, Richfield\, MN\, 55423\, United States
CATEGORIES:Trainings
END:VEVENT
END:VCALENDAR