BEGIN:VCALENDAR
VERSION:2.0
PRODID:-//Arrive Ministries - ECPv6.11.2.1//NONSGML v1.0//EN
CALSCALE:GREGORIAN
METHOD:PUBLISH
X-WR-CALNAME:Arrive Ministries
X-ORIGINAL-URL:https://arriveministries.org
X-WR-CALDESC:Events for Arrive Ministries
REFRESH-INTERVAL;VALUE=DURATION:PT1H
X-Robots-Tag:noindex
X-PUBLISHED-TTL:PT1H
BEGIN:VTIMEZONE
TZID:America/Denver
BEGIN:DAYLIGHT
TZOFFSETFROM:-0700
TZOFFSETTO:-0600
TZNAME:MDT
DTSTART:20240310T090000
END:DAYLIGHT
BEGIN:STANDARD
TZOFFSETFROM:-0600
TZOFFSETTO:-0700
TZNAME:MST
DTSTART:20241103T080000
END:STANDARD
END:VTIMEZONE
BEGIN:VEVENT
DTSTART;TZID=America/Denver:20240611T190000
DTEND;TZID=America/Denver:20240611T200000
DTSTAMP:20260421T073703
CREATED:20240514T145909Z
LAST-MODIFIED:20240514T150331Z
UID:6958-1718132400-1718136000@arriveministries.org
SUMMARY:7PM Volunteer Interest Meeting
DESCRIPTION:Tuesday\, June 11 from 7-8pm on Zoom \nJoin us for our monthly Volunteer Interest Meeting! \nLearn about refugees\, their journey to Minnesota\, the work we do at Arrive Ministries\, and God’s call to respond. \nWe will be sharing about our volunteer opportunities and ways you can get involved. \nRegister below and you will receive the zoom link the day of the event.
URL:https://arriveministries.org/event/7pm-volunteer-interest-meeting/
CATEGORIES:Volunteer Interest Meeting
END:VEVENT
BEGIN:VEVENT
DTSTART;TZID=America/Denver:20240625T120000
DTEND;TZID=America/Denver:20240625T130000
DTSTAMP:20260421T073703
CREATED:20240521T181658Z
LAST-MODIFIED:20240530T195517Z
UID:6968-1719316800-1719320400@arriveministries.org
SUMMARY:Practical: Services and Resources for the Refugee Community
DESCRIPTION:Summer Volunteer Workshop Series: Practical\nTuesday\, June 25\, 12-1 PM\nHybrid – Zoom or In-Person (1515 E 66th St. Richfield)\nLoving refugees practically can often mean assisting our new neighbors as they navigate complex U.S. systems. After their initial arrival\, Arrive Ministries assists refugees in building connections to community supports. Join us to learn about the refugee resettlement program and supportive services that refugees are enrolled in. Topics include: housing\, health insurance\, cash & food support\, employment\, and other community resources like clothing closets and transportation services. Discover helpful resources and ask questions!\n\n\nTrainer: Rebekah Phillips is the Director of Refugee Services at Arrive Ministries\nIf joining virtually\, you will receive the zoom link the day of the event.
URL:https://arriveministries.org/event/volunteer-workshop-practical/
LOCATION:Arrive Ministries\, 1515 66th St. E.\, Richfield\, MN\, 55423\, United States
CATEGORIES:Trainings
END:VEVENT
END:VCALENDAR