BEGIN:VCALENDAR
VERSION:2.0
PRODID:-//Arrive Ministries - ECPv6.11.2.1//NONSGML v1.0//EN
CALSCALE:GREGORIAN
METHOD:PUBLISH
X-ORIGINAL-URL:https://arriveministries.org
X-WR-CALDESC:Events for Arrive Ministries
REFRESH-INTERVAL;VALUE=DURATION:PT1H
X-Robots-Tag:noindex
X-PUBLISHED-TTL:PT1H
BEGIN:VTIMEZONE
TZID:America/Denver
BEGIN:DAYLIGHT
TZOFFSETFROM:-0700
TZOFFSETTO:-0600
TZNAME:MDT
DTSTART:20240310T090000
END:DAYLIGHT
BEGIN:STANDARD
TZOFFSETFROM:-0600
TZOFFSETTO:-0700
TZNAME:MST
DTSTART:20241103T080000
END:STANDARD
END:VTIMEZONE
BEGIN:VEVENT
DTSTART;TZID=America/Denver:20240409T190000
DTEND;TZID=America/Denver:20240409T200000
DTSTAMP:20260425T074356
CREATED:20240306T174626Z
LAST-MODIFIED:20240306T181157Z
UID:6854-1712689200-1712692800@arriveministries.org
SUMMARY:7PM Volunteer Interest Meeting
DESCRIPTION:Tuesday\, April 9 from 7-8pm on Zoom \nJoin us for our monthly Volunteer Interest Meeting! \nLearn about refugees\, their journey to Minnesota\, the work we do at Arrive Ministries\, and God’s call to respond. \nWe will be sharing about our volunteer opportunities and ways you can get involved. \nRegister below and you will receive the zoom link the day of the event.
URL:https://arriveministries.org/event/volunteer-interest-meeting-14/
CATEGORIES:Volunteer Interest Meeting
END:VEVENT
END:VCALENDAR