BEGIN:VCALENDAR
VERSION:2.0
PRODID:-//Arrive Ministries - ECPv6.11.2.1//NONSGML v1.0//EN
CALSCALE:GREGORIAN
METHOD:PUBLISH
X-ORIGINAL-URL:https://arriveministries.org
X-WR-CALDESC:Events for Arrive Ministries
REFRESH-INTERVAL;VALUE=DURATION:PT1H
X-Robots-Tag:noindex
X-PUBLISHED-TTL:PT1H
BEGIN:VTIMEZONE
TZID:America/Denver
BEGIN:DAYLIGHT
TZOFFSETFROM:-0700
TZOFFSETTO:-0600
TZNAME:MDT
DTSTART:20240310T090000
END:DAYLIGHT
BEGIN:STANDARD
TZOFFSETFROM:-0600
TZOFFSETTO:-0700
TZNAME:MST
DTSTART:20241103T080000
END:STANDARD
END:VTIMEZONE
BEGIN:VEVENT
DTSTART;TZID=America/Denver:20240412T190000
DTEND;TZID=America/Denver:20240412T203000
DTSTAMP:20260423T194212
CREATED:20240215T172420Z
LAST-MODIFIED:20240215T172750Z
UID:6836-1712948400-1712953800@arriveministries.org
SUMMARY:Listen St. Cloud
DESCRIPTION:Listen St. Cloud\nStories of those Forced to Flee\n\nFriday\, April 12\, 2024\n7 PM – 8:30 PM\nHope Covenant Church\n336 4th Ave South\, St. Cloud MN 56301 \n\n\nJoin us for a powerful evening of stories shared by people with a refugee background who were forced to flee their homelands.\n\nThis Listen St. Cloud event offers a platform for some of Arrive Ministries’ former refugee clients and friends to tell their stories of journeying from dangerous situations and adjusting to life in St. Cloud.\nThis panel is open to the public. 
URL:https://arriveministries.org/event/listen-st-cloud/
LOCATION:Hope Covenant Church St. Cloud\, 336 4th Ave South\, St. Cloud\, MN\, 56301
CATEGORIES:Event,St. Cloud Events
ATTACH;FMTTYPE=image/png:https://arriveministries.org/wp-content/uploads/2024/01/Listen-Banner-2024.png
END:VEVENT
END:VCALENDAR