BEGIN:VCALENDAR
VERSION:2.0
PRODID:-//Arrive Ministries - ECPv6.11.2.1//NONSGML v1.0//EN
CALSCALE:GREGORIAN
METHOD:PUBLISH
X-ORIGINAL-URL:https://arriveministries.org
X-WR-CALDESC:Events for Arrive Ministries
REFRESH-INTERVAL;VALUE=DURATION:PT1H
X-Robots-Tag:noindex
X-PUBLISHED-TTL:PT1H
BEGIN:VTIMEZONE
TZID:America/Denver
BEGIN:DAYLIGHT
TZOFFSETFROM:-0700
TZOFFSETTO:-0600
TZNAME:MDT
DTSTART:20230312T090000
END:DAYLIGHT
BEGIN:STANDARD
TZOFFSETFROM:-0600
TZOFFSETTO:-0700
TZNAME:MST
DTSTART:20231105T080000
END:STANDARD
END:VTIMEZONE
BEGIN:VEVENT
DTSTART;TZID=America/Denver:20230805T183000
DTEND;TZID=America/Denver:20230805T200000
DTSTAMP:20260422T110829
CREATED:20230619T184728Z
LAST-MODIFIED:20230619T185851Z
UID:6466-1691260200-1691265600@arriveministries.org
SUMMARY:Listen: Rochester
DESCRIPTION:Listen: Rochester\nSaturday\, August 5\, 6:30pm – 8:00pm\nLocation: 125 Live (125 Elton Hills Dr. NW Rochester)\n\n  \n\n\nJoin us for a powerful evening of stories shared by refugees from West Africa\, East Africa and Afghanistan who were forced to flee their homelands. \nOur first Listen panel in Rochester will offer a platform to some of Arrive Ministries’ former refugee clients and friends to tell their stories of journeying from dangerous situations and adjusting to life in Rochester. \nSomali dessert\, tea and coffee will be served after the panel. This panel is open to the public\, please register below.
URL:https://arriveministries.org/event/listen-rochester/
LOCATION:125 Live\, 125 Elton Hills Dr. NW\, Rochester\, MN\, 55901
CATEGORIES:Event,Rochester Events
ATTACH;FMTTYPE=image/jpeg:https://arriveministries.org/wp-content/uploads/2022/12/Listen-2022.jpg
END:VEVENT
END:VCALENDAR