BEGIN:VCALENDAR
VERSION:2.0
PRODID:-//Arrive Ministries - ECPv6.11.2.1//NONSGML v1.0//EN
CALSCALE:GREGORIAN
METHOD:PUBLISH
X-ORIGINAL-URL:https://arriveministries.org
X-WR-CALDESC:Events for Arrive Ministries
REFRESH-INTERVAL;VALUE=DURATION:PT1H
X-Robots-Tag:noindex
X-PUBLISHED-TTL:PT1H
BEGIN:VTIMEZONE
TZID:America/Denver
BEGIN:DAYLIGHT
TZOFFSETFROM:-0700
TZOFFSETTO:-0600
TZNAME:MDT
DTSTART:20250309T090000
END:DAYLIGHT
BEGIN:STANDARD
TZOFFSETFROM:-0600
TZOFFSETTO:-0700
TZNAME:MST
DTSTART:20251102T080000
END:STANDARD
END:VTIMEZONE
BEGIN:VEVENT
DTSTART;TZID=America/Denver:20250225T190000
DTEND;TZID=America/Denver:20250225T203000
DTSTAMP:20260421T144335
CREATED:20241218T204406Z
LAST-MODIFIED:20250218T190211Z
UID:7201-1740510000-1740515400@arriveministries.org
SUMMARY:For Such a Time as This
DESCRIPTION:For Such a Time as This\nAn evening of story\, worship\, and prayer\n\nTuesday\, February 25\, 7-8:30 PM\nEagle Brook Church – Maplewood\n2220 Edgerton St\, Maplewood\, MN 55117\n\n\nIn times when unjust laws run contrary to our faith\, we remember Queen Esther’s story. When genocide threatened her people\, Esther fasted and prayed before she went before the king and begged mercy.\n\n\n“O my Lord\, you only are our king; help me\, who am alone and have no helper but you” Esther 4:31 \n\nIn response to the suspension of the US Refugee Admissions Program\, please join us for an evening of story\, worship and prayer. As the church\, we can approach the throne of God with confidence to intercede for our people: refugees\, aliens\, and strangers\, who bear the image of the Almighty. Together\, we cry out for justice!
URL:https://arriveministries.org/event/for-such-a-time/
LOCATION:Eagle Brook Church – Maplewood\, 2220 Edgerton St.\, Maplewood\, MN\, 55117
CATEGORIES:Event
ATTACH;FMTTYPE=image/png:https://arriveministries.org/wp-content/uploads/2024/12/For-Such-a-Time-as-This-2.25.25.png
END:VEVENT
END:VCALENDAR